BEGIN:VCALENDAR
VERSION:2.0
PRODID:-//eventon.com NONSGML v1.0//EN
CALSCALE:GREGORIAN
METHOD:PUBLISH
BEGIN:VEVENT
UID:69e82a3a4d6fc
DTSTAMP:20260422T015402Z
DTSTART:20261004T000000Z
DTEND:20261004T045900Z
LOCATION:
SUMMARY:LIVESTOCK BAR &  GRILL (7PM)
DESCRIPTION:\nhttps://dplpoker.com/events/livestock-bar-grill-alt-time/var/
 ri-31.l-L1
URL:https://dplpoker.com/events/livestock-bar-grill-alt-time/var/ri-31.l-L1
END:VEVENT
END:VCALENDAR