BEGIN:VCALENDAR
VERSION:2.0
PRODID:-//eventon.com NONSGML v1.0//EN
CALSCALE:GREGORIAN
METHOD:PUBLISH
BEGIN:VEVENT
UID:69e8131cef9cc
DTSTAMP:20260422T001524Z
DTSTART:20260927T000000Z
DTEND:20260927T045900Z
LOCATION:
SUMMARY:LIVESTOCK BAR &  GRILL (7PM)
DESCRIPTION:\nhttps://dplpoker.com/events/livestock-bar-grill-alt-time/var/
 ri-30.l-L1
URL:https://dplpoker.com/events/livestock-bar-grill-alt-time/var/ri-30.l-L1
END:VEVENT
END:VCALENDAR