BEGIN:VCALENDAR
VERSION:2.0
PRODID:-//eventon.com NONSGML v1.0//EN
CALSCALE:GREGORIAN
METHOD:PUBLISH
BEGIN:VEVENT
UID:69e7350d4875f
DTSTAMP:20260421T082757Z
DTSTART:20260712T000000Z
DTEND:20260712T045900Z
LOCATION:
SUMMARY:LIVESTOCK BAR &  GRILL (7PM)
DESCRIPTION:\nhttps://dplpoker.com/events/livestock-bar-grill-alt-time/var/
 ri-19.l-L1
URL:https://dplpoker.com/events/livestock-bar-grill-alt-time/var/ri-19.l-L1
END:VEVENT
END:VCALENDAR