BEGIN:VCALENDAR
VERSION:2.0
PRODID:-//eventon.com NONSGML v1.0//EN
CALSCALE:GREGORIAN
METHOD:PUBLISH
BEGIN:VEVENT
UID:69e5e5806e760
DTSTAMP:20260420T083616Z
DTSTART:20260320T000000Z
DTEND:20260320T045900Z
LOCATION:Millwoods Sports Bar and Grill in Maryland Heights 12068 Dorsett Rd
SUMMARY:Millwoods Sports Bar and Grill in Maryland Heights
DESCRIPTION:\nhttps://dplpoker.com/events/millwoods-sports-bar-and-grill-in
 -maryland-heights/var/ri-5.l-L1
URL:https://dplpoker.com/events/millwoods-sports-bar-and-grill-in-maryland-heights/var/ri-5.l-L1
END:VEVENT
END:VCALENDAR