BEGIN:VCALENDAR
VERSION:2.0
PRODID:-//eventon.com NONSGML v1.0//EN
CALSCALE:GREGORIAN
METHOD:PUBLISH
BEGIN:VEVENT
UID:69e5e6f41438c
DTSTAMP:20260420T084228Z
DTSTART:20260328T170000Z
DTEND:20260329T045900Z
LOCATION:
SUMMARY:LIVESTOCK BAR &  GRILL
DESCRIPTION:\nhttps://dplpoker.com/events/livestock-bar-grill/var/ri-8.l-L1
URL:https://dplpoker.com/events/livestock-bar-grill/var/ri-8.l-L1
END:VEVENT
END:VCALENDAR