BEGIN:VCALENDAR
VERSION:2.0
PRODID:-//eventon.com NONSGML v1.0//EN
CALSCALE:GREGORIAN
METHOD:PUBLISH
BEGIN:VEVENT
UID:69e8f4abbea86
DTSTAMP:20260422T161747Z
DTSTART:20270416T000000Z
DTEND:20270416T045900Z
LOCATION:Throw Backs Bar &amp; Grill 1042 Venture Dr
SUMMARY:Throw Backs Bar & Grill
DESCRIPTION:\nhttps://dplpoker.com/events/throw-backs-bar-grill-thu/var/ri-
 81.l-L1
URL:https://dplpoker.com/events/throw-backs-bar-grill-thu/var/ri-81.l-L1
END:VEVENT
END:VCALENDAR