BEGIN:VCALENDAR
VERSION:2.0
PRODID:-//eventon.com NONSGML v1.0//EN
CALSCALE:GREGORIAN
METHOD:PUBLISH
BEGIN:VEVENT
UID:69e80b7d6ca3d
DTSTAMP:20260421T234253Z
DTSTART:20270312T010000Z
DTEND:20270312T055900Z
LOCATION:Throw Backs Bar &amp; Grill 1042 Venture Dr
SUMMARY:Throw Backs Bar & Grill
DESCRIPTION:\nhttps://dplpoker.com/events/throw-backs-bar-grill-thu/var/ri-
 76.l-L1
URL:https://dplpoker.com/events/throw-backs-bar-grill-thu/var/ri-76.l-L1
END:VEVENT
END:VCALENDAR