BEGIN:VCALENDAR
VERSION:2.0
PRODID:-//eventon.com NONSGML v1.0//EN
CALSCALE:GREGORIAN
METHOD:PUBLISH
BEGIN:VEVENT
UID:69e5e6ad8b70b
DTSTAMP:20260420T084117Z
DTSTART:20260320T000000Z
DTEND:20260320T045900Z
LOCATION:Throw Backs Bar &amp; Grill 1042 Venture Dr
SUMMARY:Throw Backs Bar & Grill
DESCRIPTION:\nhttps://dplpoker.com/events/throw-backs-bar-grill-thu/var/ri-
 25.l-L1
URL:https://dplpoker.com/events/throw-backs-bar-grill-thu/var/ri-25.l-L1
END:VEVENT
END:VCALENDAR