BEGIN:VCALENDAR
VERSION:2.0
PRODID:-//eventon.com NONSGML v1.0//EN
CALSCALE:GREGORIAN
METHOD:PUBLISH
BEGIN:VEVENT
UID:69eb02fd43435
DTSTAMP:20260424T054325Z
DTSTART:20271015T000000Z
DTEND:20271015T045900Z
LOCATION:Throw Backs Bar &amp; Grill 1042 Venture Dr
SUMMARY:Throw Backs Bar & Grill
DESCRIPTION:\nhttps://dplpoker.com/events/throw-backs-bar-grill-thu/var/ri-
 107.l-L1
URL:https://dplpoker.com/events/throw-backs-bar-grill-thu/var/ri-107.l-L1
END:VEVENT
END:VCALENDAR