BEGIN:VCALENDAR
VERSION:2.0
PRODID:-//eventon.com NONSGML v1.0//EN
CALSCALE:GREGORIAN
METHOD:PUBLISH
BEGIN:VEVENT
UID:69ea87231e1d7
DTSTAMP:20260423T205459Z
DTSTART:20270903T000000Z
DTEND:20270903T045900Z
LOCATION:Throw Backs Bar &amp; Grill 1042 Venture Dr
SUMMARY:Throw Backs Bar & Grill
DESCRIPTION:\nhttps://dplpoker.com/events/throw-backs-bar-grill-thu/var/ri-
 101.l-L1
URL:https://dplpoker.com/events/throw-backs-bar-grill-thu/var/ri-101.l-L1
END:VEVENT
END:VCALENDAR