BEGIN:VCALENDAR
VERSION:2.0
PRODID:-//eventon.com NONSGML v1.0//EN
CALSCALE:GREGORIAN
METHOD:PUBLISH
BEGIN:VEVENT
UID:69e4e2aa2e855
DTSTAMP:20260419T141154Z
DTSTART:20260428T000000Z
DTEND:20260428T045900Z
LOCATION:Nightshift Bar and Grill 3979 Mexico Rd
SUMMARY:Nightshift Bar and Grill
DESCRIPTION:\nhttps://dplpoker.com/events/nightshift-bar-and-grill-mon/var/
 ri-134.l-L1
URL:https://dplpoker.com/events/nightshift-bar-and-grill-mon/var/ri-134.l-L1
END:VEVENT
END:VCALENDAR