BEGIN:VCALENDAR
VERSION:2.0
PRODID:-//eventon.com NONSGML v1.0//EN
CALSCALE:GREGORIAN
METHOD:PUBLISH
BEGIN:VEVENT
UID:69e5e6f4152b6
DTSTAMP:20260420T084228Z
DTSTART:20260329T180000Z
DTEND:20260330T045900Z
LOCATION:Hotshots Sports Bar and Grill - Arnold 131 Arnold Crossroads Ctr
SUMMARY:Hotshots Sports Bar and Grill – Arnold
DESCRIPTION:\nhttps://dplpoker.com/events/hotshots-sports-bar-and-grill-arn
 old-sun/var/ri-130.l-L1
URL:https://dplpoker.com/events/hotshots-sports-bar-and-grill-arnold-sun/var/ri-130.l-L1
END:VEVENT
END:VCALENDAR